BEGIN:VCALENDAR
VERSION:2.0
PRODID:-//Norkirken Nordhordland - ECPv6.15.20//NONSGML v1.0//EN
CALSCALE:GREGORIAN
METHOD:PUBLISH
X-WR-CALNAME:Norkirken Nordhordland
X-ORIGINAL-URL:https://norkirken-nh.no
X-WR-CALDESC:Arrangement for Norkirken Nordhordland
REFRESH-INTERVAL;VALUE=DURATION:PT1H
X-Robots-Tag:noindex
X-PUBLISHED-TTL:PT1H
BEGIN:VTIMEZONE
TZID:Europe/Oslo
BEGIN:DAYLIGHT
TZOFFSETFROM:+0100
TZOFFSETTO:+0200
TZNAME:CEST
DTSTART:20250330T010000
END:DAYLIGHT
BEGIN:STANDARD
TZOFFSETFROM:+0200
TZOFFSETTO:+0100
TZNAME:CET
DTSTART:20251026T010000
END:STANDARD
BEGIN:DAYLIGHT
TZOFFSETFROM:+0100
TZOFFSETTO:+0200
TZNAME:CEST
DTSTART:20260329T010000
END:DAYLIGHT
BEGIN:STANDARD
TZOFFSETFROM:+0200
TZOFFSETTO:+0100
TZNAME:CET
DTSTART:20261025T010000
END:STANDARD
BEGIN:DAYLIGHT
TZOFFSETFROM:+0100
TZOFFSETTO:+0200
TZNAME:CEST
DTSTART:20270328T010000
END:DAYLIGHT
BEGIN:STANDARD
TZOFFSETFROM:+0200
TZOFFSETTO:+0100
TZNAME:CET
DTSTART:20271031T010000
END:STANDARD
END:VTIMEZONE
BEGIN:VEVENT
DTSTART;VALUE=DATE:20260425
DTEND;VALUE=DATE:20260428
DTSTAMP:20260425T124659
CREATED:20260304T130159Z
LAST-MODIFIED:20260304T130159Z
UID:4268-1777086000-1777258799@norkirken-nh.no
SUMMARY:Konfirmasjon Tentro
DESCRIPTION:Egne konfirmasjonsgudstenester for felles frikirkelig konfirmantarbeid\, Tentro Nordhordland.\nLørdag: 10:30\, 12:00\, 13:30\nSøndag: 11:00
URL:https://norkirken-nh.no/hendelse/konfirmasjon-tentro/
LOCATION:Nordhordland Folkehøgskole\, Holtermandsvegen 3\, Frekhaug\, 5918\, Norge
END:VEVENT
END:VCALENDAR