BEGIN:VCALENDAR
VERSION:2.0
PRODID:-//Norkirken Nordhordland - ECPv6.15.20//NONSGML v1.0//EN
CALSCALE:GREGORIAN
METHOD:PUBLISH
X-ORIGINAL-URL:https://norkirken-nh.no
X-WR-CALDESC:Arrangement for Norkirken Nordhordland
REFRESH-INTERVAL;VALUE=DURATION:PT1H
X-Robots-Tag:noindex
X-PUBLISHED-TTL:PT1H
BEGIN:VTIMEZONE
TZID:Europe/Oslo
BEGIN:DAYLIGHT
TZOFFSETFROM:+0100
TZOFFSETTO:+0200
TZNAME:CEST
DTSTART:20240331T010000
END:DAYLIGHT
BEGIN:STANDARD
TZOFFSETFROM:+0200
TZOFFSETTO:+0100
TZNAME:CET
DTSTART:20241027T010000
END:STANDARD
BEGIN:DAYLIGHT
TZOFFSETFROM:+0100
TZOFFSETTO:+0200
TZNAME:CEST
DTSTART:20250330T010000
END:DAYLIGHT
BEGIN:STANDARD
TZOFFSETFROM:+0200
TZOFFSETTO:+0100
TZNAME:CET
DTSTART:20251026T010000
END:STANDARD
BEGIN:DAYLIGHT
TZOFFSETFROM:+0100
TZOFFSETTO:+0200
TZNAME:CEST
DTSTART:20260329T010000
END:DAYLIGHT
BEGIN:STANDARD
TZOFFSETFROM:+0200
TZOFFSETTO:+0100
TZNAME:CET
DTSTART:20261025T010000
END:STANDARD
END:VTIMEZONE
BEGIN:VEVENT
DTSTART;TZID=Europe/Oslo:20251001T200000
DTEND;TZID=Europe/Oslo:20251001T213000
DTSTAMP:20260423T082157
CREATED:20250618T083426Z
LAST-MODIFIED:20250618T083535Z
UID:2736-1759348800-1759354200@norkirken-nh.no
SUMMARY:Kva seier Bibelen om faste og bøn?
DESCRIPTION:Undervisning v/ Inga-Birgithe Sætre Knudsen
URL:https://norkirken-nh.no/hendelse/kva-seier-bibelen-om-faste-og-bon/
LOCATION:Kyrkjetorget\, Havnevegen 31\, Frekhaug\, Norge\, 5918
END:VEVENT
END:VCALENDAR