BEGIN:VCALENDAR
VERSION:2.0
PRODID:-//Norkirken Nordhordland - ECPv6.15.20//NONSGML v1.0//EN
CALSCALE:GREGORIAN
METHOD:PUBLISH
X-ORIGINAL-URL:https://norkirken-nh.no
X-WR-CALDESC:Arrangement for Norkirken Nordhordland
REFRESH-INTERVAL;VALUE=DURATION:PT1H
X-Robots-Tag:noindex
X-PUBLISHED-TTL:PT1H
BEGIN:VTIMEZONE
TZID:Europe/Oslo
BEGIN:DAYLIGHT
TZOFFSETFROM:+0100
TZOFFSETTO:+0200
TZNAME:CEST
DTSTART:20240331T010000
END:DAYLIGHT
BEGIN:STANDARD
TZOFFSETFROM:+0200
TZOFFSETTO:+0100
TZNAME:CET
DTSTART:20241027T010000
END:STANDARD
BEGIN:DAYLIGHT
TZOFFSETFROM:+0100
TZOFFSETTO:+0200
TZNAME:CEST
DTSTART:20250330T010000
END:DAYLIGHT
BEGIN:STANDARD
TZOFFSETFROM:+0200
TZOFFSETTO:+0100
TZNAME:CET
DTSTART:20251026T010000
END:STANDARD
BEGIN:DAYLIGHT
TZOFFSETFROM:+0100
TZOFFSETTO:+0200
TZNAME:CEST
DTSTART:20260329T010000
END:DAYLIGHT
BEGIN:STANDARD
TZOFFSETFROM:+0200
TZOFFSETTO:+0100
TZNAME:CET
DTSTART:20261025T010000
END:STANDARD
END:VTIMEZONE
BEGIN:VEVENT
DTSTART;TZID=Europe/Oslo:20250810T110000
DTEND;TZID=Europe/Oslo:20250810T110000
DTSTAMP:20260424T120753
CREATED:20250319T130546Z
LAST-MODIFIED:20250618T085054Z
UID:2621-1754823600-1754823600@norkirken-nh.no
SUMMARY:Gudsteneste
DESCRIPTION:Semesterstart. Kongebarna og Sofagjengen. Bønnemøte kl. 10:30
URL:https://norkirken-nh.no/hendelse/gudsteneste/
LOCATION:Frekhaug bedehus\, Holtermandsvegen 2\, Frekhaug\, 5918\, Norge
CATEGORIES:Gudstjeneste
END:VEVENT
BEGIN:VEVENT
DTSTART;TZID=Europe/Oslo:20250824T110000
DTEND;TZID=Europe/Oslo:20250824T110000
DTSTAMP:20260424T120753
CREATED:20250618T081625Z
LAST-MODIFIED:20250618T085148Z
UID:2721-1756033200-1756033200@norkirken-nh.no
SUMMARY:Gudsteneste
DESCRIPTION:Start på taleserie frå Efeserbrevet: “I Kristus”. \nKongebarna og Sofagjengen. \nNattverd. \nBønnemøte kl. 10:30
URL:https://norkirken-nh.no/hendelse/gudsteneste-2/
LOCATION:Frekhaug bedehus\, Holtermandsvegen 2\, Frekhaug\, 5918\, Norge
CATEGORIES:Gudstjeneste
END:VEVENT
END:VCALENDAR