BEGIN:VCALENDAR
VERSION:2.0
PRODID:-//Norkirken Nordhordland - ECPv6.15.20//NONSGML v1.0//EN
CALSCALE:GREGORIAN
METHOD:PUBLISH
X-WR-CALNAME:Norkirken Nordhordland
X-ORIGINAL-URL:https://norkirken-nh.no
X-WR-CALDESC:Arrangement for Norkirken Nordhordland
REFRESH-INTERVAL;VALUE=DURATION:PT1H
X-Robots-Tag:noindex
X-PUBLISHED-TTL:PT1H
BEGIN:VTIMEZONE
TZID:Europe/Oslo
BEGIN:DAYLIGHT
TZOFFSETFROM:+0100
TZOFFSETTO:+0200
TZNAME:CEST
DTSTART:20240331T010000
END:DAYLIGHT
BEGIN:STANDARD
TZOFFSETFROM:+0200
TZOFFSETTO:+0100
TZNAME:CET
DTSTART:20241027T010000
END:STANDARD
BEGIN:DAYLIGHT
TZOFFSETFROM:+0100
TZOFFSETTO:+0200
TZNAME:CEST
DTSTART:20250330T010000
END:DAYLIGHT
BEGIN:STANDARD
TZOFFSETFROM:+0200
TZOFFSETTO:+0100
TZNAME:CET
DTSTART:20251026T010000
END:STANDARD
BEGIN:DAYLIGHT
TZOFFSETFROM:+0100
TZOFFSETTO:+0200
TZNAME:CEST
DTSTART:20260329T010000
END:DAYLIGHT
BEGIN:STANDARD
TZOFFSETFROM:+0200
TZOFFSETTO:+0100
TZNAME:CET
DTSTART:20261025T010000
END:STANDARD
END:VTIMEZONE
BEGIN:VEVENT
DTSTART;TZID=Europe/Oslo:20250907T110000
DTEND;TZID=Europe/Oslo:20250907T110000
DTSTAMP:20260424T005153
CREATED:20250618T082510Z
LAST-MODIFIED:20250618T085237Z
UID:2726-1757242800-1757242800@norkirken-nh.no
SUMMARY:Gudsteneste
DESCRIPTION:Taleserie frå Efesarbrevet. \nKongebarna og Sofagjengen. \nBønnemøte kl. 10:30
URL:https://norkirken-nh.no/hendelse/gudsteneste-3/
LOCATION:Frekhaug bedehus\, Holtermandsvegen 2\, Frekhaug\, 5918\, Norge
CATEGORIES:Gudstjeneste
END:VEVENT
BEGIN:VEVENT
DTSTART;TZID=Europe/Oslo:20250921T110000
DTEND;TZID=Europe/Oslo:20250921T110000
DTSTAMP:20260424T005153
CREATED:20250618T082822Z
LAST-MODIFIED:20250618T085339Z
UID:2729-1758452400-1758452400@norkirken-nh.no
SUMMARY:Gudsteneste: G11-U
DESCRIPTION:Gudsteneste for alle\, retta mot ungdom og med ungdom i teneste. \nBønnevandring og Nattverd. Eiga samling for Kongebarna under talen. Bønnemøte kl. 10:30. \nAfterchurch for ungdom etter gudstenesta.
URL:https://norkirken-nh.no/hendelse/gudsteneste-g11-u/
LOCATION:Frekhaug bedehus\, Holtermandsvegen 2\, Frekhaug\, 5918\, Norge
CATEGORIES:Gudstjeneste
END:VEVENT
END:VCALENDAR